BEGIN:VCALENDAR
VERSION:2.0
PRODID:spatie/icalendar-generator
DESCRIPTION:Events from YMCA Worcestershire
X-WR-CALDESC:Events from YMCA Worcestershire
REFRESH-INTERVAL;VALUE=DURATION:PT1440M
X-PUBLISHED-TTL:PT1440M
BEGIN:VTIMEZONE
TZID:Europe/London
BEGIN:STANDARD
DTSTART:20251026T020000Z
TZOFFSETFROM:+0100
TZOFFSETTO:+0000
END:STANDARD
BEGIN:DAYLIGHT
DTSTART:20260329T010000Z
TZOFFSETFROM:+0000
TZOFFSETTO:+0100
END:DAYLIGHT
BEGIN:STANDARD
DTSTART:20261025T020000Z
TZOFFSETFROM:+0100
TZOFFSETTO:+0000
END:STANDARD
END:VTIMEZONE
BEGIN:VTIMEZONE
TZID:UTC
BEGIN:STANDARD
DTSTART:20250725T084648Z
TZOFFSETFROM:+0000
TZOFFSETTO:+0000
END:STANDARD
END:VTIMEZONE
BEGIN:VEVENT
UID:12-7
DTSTAMP:20260421T084648Z
SUMMARY:Family Fun Day
LOCATION:Willow Trees Community Centre
ORGANIZER;CN=Emily Brooks:MAILTO:Emily.Brooks@YMCAWorcestershire.org.uk
DTSTART;TZID=Europe/London;VALUE=DATE:20260704
DTEND;TZID=Europe/London;VALUE=DATE:20260705
X-ALT-DESC;FMTTYPE=TEXT/HTML:🌞 Willow Trees Community Centre – Summer 
 Family Fun Day! 🌈 Join us this summer at Willow Trees Community Centre 
 for a fantastic Family Fun Day packed with activities for all ages! 🎉 E
 njoy browsing craft stalls\, tuck into delicious food and refreshing drink
 s\, and dive into a wide variety of family-friendly games and activities&amp;h
 ellip\;
CATEGORIES:General
URL;VALUE=URI:https://ymcaworcestershire.org.uk/mc-events/family-fun-day/
METHOD:PUBLISH
END:VEVENT
END:VCALENDAR